Workbook

Sheet 受講申込書 
A3: 生産性向上支援訓練 受講申込書
A5: ※お申込みの前に、下記の事項をご確認ください。
A6: □ | B6: 個人での受講はできません。企業（事業主）からの指示による申込に限ります。なお、オープンコースをお申込みの場合は先着順に申込受理いたします。
A7: □ | B7: 実施機関（訓練実施を担当する企業）の関係会社（親会社、子会社、関連会社等）の方は受講できません。
A8: □ | B8: 受講申込は、本紙の必要事項をご記入の上、FAX又は電子メールにてお送りください。（オープンコースをお申込の場合、申込受理後に申込受付通知を返信いたします。）
A9: □ | B9: 本申込書が当センターに到着後、申込担当者様に受講料支払い手続き等についてご連絡いたします（※振込手数料は、申込者負担とさせていただきます。）。
A10: □ | B10: 受講申込をキャンセルされる場合は、当センターに連絡の上、速やかに「受講取消届」をFAX又は電子メールにてお送りください。受講料振込期限までに届出がない場合、訓練受講の可否に関わらず受講料の全額をお支払いいただきますので、ご注意ください。また、受講者を変更又は追加したい場合は、当センターに連絡の上、指示に従って手続を行ってください。
A12: □ | B12: 最少催行人数を設定している訓練コースについては、受講申込者数が最少催行人数に達しない場合、訓練が中止又は延期されますので、あらかじめご了承ください。
A13: □ | B13: 訓練実施状況の確認等のため、センター職員が訓練中に写真撮影や録画を行う場合がありますので、あらかじめご了承ください。
A14: □ | B14: 受講者を変更又は追加したい場合は、当センターに連絡の上、指示に従って手続を行ってください。
A15: □ | B15: 電子メール又はFAXの送り間違いには十分ご注意ください。
A16: □ | B16: 訓練終了後、事業主アンケート（代表者等にてご回答）を訓練の２～３カ月後に送付しますので、申込担当者様はこちらの回収にご協力ください。
A18: 宛先：ポリテクセンター鳥取 FAX番号：0857-52-8811 メールアドレス：tottori-seisan@jeed.go.jp
A20: 独立行政法人高齢・障害・求職者雇用支援機構
A21: 鳥取支部鳥取職業能力開発促進センター所長 殿
P22: 令和 年 月 日
A24: 次の訓練について、訓練内容と受講要件を確認の上、受講を申込みます。
A25: 申 込 内 容
A27: ● 同時双方向通信による生産性向上支援訓練利用規約について
A28: ※オンラインコースを申込される場合は、同時双方向通信による生産性向上支援訓練利用規約に同意の上、□に✓をご記入ください。
B29: □ | C29: 同時双方向通信による生産性向上支援訓練利用規約に同意します。 | K29: ※必ず同時双方向通信による生産性向上支援訓練利用規約をお読みください。
B31: 法人（企業）名 | K31: 事業所名
B33: TEL | K33: FAX
B34: 所在地 | D34: 〒
B36: 企業規模 （該当に✔） | D36: □ | E36: A 1～29人 | I36: □ | J36: B 30～99人 | N36: □ | O36: C 100～299人
D37: □ | E37: D 300～499人 | I37: □ | J37: E 500～999人 | N37: □ | O37: F 1000人～
B38: 産業分類 | F38: 産業分類は、以下の２０種のうち該当するものを１つ選んでください。 A 農業、林業 B 漁業 C 鉱業、採石業、砂利採取業 D 建設業 E 製造業 F 電気・ガス・熱供給・水道業 G 情報通信業 H 運輸業、郵便業 I 卸売業、小売業 J 金融業、保険業 K 不動産業、物品賃貸 L 学術研究、専門・技術サービス業 M 宿泊業、飲食サービス業 N 生活関連サービス業、娯楽業 O 教育、学習支援業 P 医療、福祉 Q 複合サービス事業 R サービス業 S 公務 T 分類不能の産業
B40: 申込担当者 | D40: 氏名 | J40: 部署 | N40: 役職
D41: TEL | J41: E-mail
B43: コース番号 | D43: コース名 | G43: 訓練 開始日 | H43: 受講者氏名 | J43: ふりがな | L43: 性別 （任意） | M43: 生年月日 （西暦/月/日） | N43: 就業状況（※１） （該当に✔） | P43: オンライン受講状況（※２） （オンラインコースを申込される場合のみ、該当に✔）
B44: （例）26-12-14-002-001 | D44: （例）生産性向上支援訓練 （生産現場の問題解決） | G44: 7/31 | H44: 幕張 太郎 | J44: まくはり たろう | M44: 36384 | N44: ☑ | O44: 正社員 | P44: □ | Q44: オンライン(自宅)
N45: □ | O45: 非正規雇用 | P45: ☑ | Q45: オンライン(自宅以外)
N46: □ | O46: その他（自営業等） | P46: □ | Q46: オフライン
A47: 1 | N47: □ | O47: 正社員 | P47: □ | Q47: オンライン(自宅)
N48: □ | O48: 非正規雇用 | P48: □ | Q48: オンライン(自宅以外)
N49: □ | O49: その他（自営業等） | P49: □ | Q49: オフライン
A50: 2 | N50: □ | O50: 正社員 | P50: □ | Q50: オンライン(自宅)
N51: □ | O51: 非正規雇用 | P51: □ | Q51: オンライン(自宅以外)
N52: □ | O52: その他（自営業等） | P52: □ | Q52: オフライン
A53: 3 | N53: □ | O53: 正社員 | P53: □ | Q53: オンライン(自宅)
...

Sheet 受講申込書  (記入例)
A3: 生産性向上支援訓練 受講申込書 （記入例）
A5: ※お申込みの前に、下記の事項をご確認ください。
A6: □ | B6: 個人での受講はできません。企業（事業主）からの指示による申込に限ります。
A7: □ | B7: 実施機関（訓練実施を担当する企業）の関係会社（親会社、子会社、関連会社等）の方は受講できません。
A8: □ | B8: 事業取組団体、事業取組団体が再委託した実施機関、これらの関係会社（親会社、子会社、関連会社等）の方は受講できません。
A9: □ | B9: 受講申込は、本紙の必要事項をご記入の上、電子メール又はFAXにてお送りください。
A10: □ | B10: 本申込書が当センターに到着後、申込担当者様に受講料支払い手続き等についてご連絡いたします（※振込手数料は、申込者負担とさせていただきます。）。
A11: □ | B11: 受講申込をキャンセルされる場合は、当センターに連絡の上、速やかに「受講取消届」を電子メール又はFAXにてお送りください。訓練開始日の●日前までに届出がない場合、受講料の全額をお支払いいただきますので、ご注意ください。
A13: □ | B13: 最少催行人数を設定している訓練コースについては、受講申込者数が最少催行人数に達しない場合、訓練が中止又は延期されますので、あらかじめご了承ください。
A14: □ | B14: 訓練実施状況の確認等のため、センター職員が訓練中に写真撮影や録画を行う場合がありますので、あらかじめご了承ください。
A15: □ | B15: 受講者を変更又は追加したい場合は、当センターに連絡の上、指示に従って手続を行ってください。
A16: □ | B16: 電子メール又はFAXの送り間違いには十分ご注意ください。
A18: 宛先：○○○○ メールアドレス：*****@***.jp FAX番号：***-***-****
A20: 独立行政法人高齢・障害・求職者雇用支援機構
A21: ○○支部○○職業能力開発促進センター所長 殿
P22: 令和 ○年 ○月 ○日
A24: 次の訓練について、訓練内容と受講要件を確認の上、受講を申込みます。
A25: 申 込 内 容
A27: ● 同時双方向通信による生産性向上支援訓練利用規約について
A28: ※オンラインコースを申込される場合は、同時双方向通信による生産性向上支援訓練利用規約に同意の上、□に✓をご記入ください。
B29: ☑ | C29: 同時双方向通信による生産性向上支援訓練利用規約に同意します。 | K29: ※必ず同時双方向通信による生産性向上支援訓練利用規約をお読みください。
B31: 法人（企業）名 | D31: 高障求支援株式会社 | K31: 事業所名 | M31: 向上支店
B33: TEL | D33: ***-***-**** | K33: FAX | M33: ***-***-****
B34: 所在地 | D34: 〒 ***-****
D35: 千葉県千葉市○○区○○1-2-3
B36: 企業規模 （該当に✔） | D36: □ | E36: A 1～29人 | I36: ☑ | J36: B 30～99人 | N36: □ | O36: C 100～299人
D37: □ | E37: D 300～499人 | I37: □ | J37: E 500～999人 | N37: □ | O37: F 1000人～
B38: 産業分類 | D38: I 卸売業、小売業 | F38: 産業分類は、以下の２０種のうち該当するものを１つ選んでください。 A 農業、林業 B 漁業 C 鉱業、採石業、砂利採取業 D 建設業 E 製造業 F 電気・ガス・熱供給・水道業 G 情報通信業 H 運輸業、郵便業 I 卸売業、小売業 J 金融業、保険業 K 不動産業、物品賃貸 L 学術研究、専門・技術サービス業 M 宿泊業、飲食サービス業 N 生活関連サービス業、娯楽業 O 教育、学習支援業 P 医療、福祉 Q 複合サービス事業 R サービス業 S 公務 T 分類不能の産業
B40: 申込担当者 | D40: 氏名 | F40: 高障 花子 | J40: 部署 | K40: 総務部総務課 | N40: 役職 | O40: 〇〇課長
D41: TEL | F41: ***-***-**** | J41: E-mail | K41: ****@***..jp
B43: コース番号 | D43: コース名 | G43: 訓練 開始日 | H43: 受講者氏名 | J43: ふりがな | L43: 性別 （任意） | M43: 生年月日 （西暦/月/日） | N43: 就業状況（※１） （該当に✔） | P43: オンライン受講状況（※２） （オンラインコースを申込される場合のみ、該当に✔）
B44: （例）26-12-14-002-001 | D44: （例）生産性向上支援訓練 （生産現場の問題解決） | G44: 7/31 | H44: 幕張 太郎 | J44: まくはり たろう | M44: 36384 | N44: ☑ | O44: 正社員 | P44: □ | Q44: オンライン(自宅)
N45: □ | O45: 非正規雇用 | P45: ☑ | Q45: オンライン(自宅以外)
N46: □ | O46: その他（自営業等） | P46: □ | Q46: オフライン
A47: 1 | B47: **-**-14-002-*** | D47: オンライン生産性向上支援訓練（生産現場の問題解決） | G47: */* | H47: 能開 一郎 | J47: のうかい いちろう | L47: 男 | M47: 29494 | N47: ☑ | O47: 正社員 | P47: □ | Q47: オンライン(自宅)
N48: □ | O48: 非正規雇用 | P48: ☑ | Q48: オンライン(自宅以外)
N49: □ | O49: その他（自営業等） | P49: □ | Q49: オフライン
A50: 2 | B50: **-**-14-002-*** | D50: オンライン生産性向上支援訓練（生産現場の問題解決） | G50: */* | H50: 雇用 次郎 | J50: こよう じろう | L50: 男 | M50: 36587 | N50: ☑ | O50: 正社員 | P50: □ | Q50: オンライン(自宅)
N51: □ | O51: 非正規雇用 | P51: ☑ | Q51: オンライン(自宅以外)
N52: □ | O52: その他（自営業等） | P52: □ | Q52: オフライン
...

Sheet 受講台帳貼付補助シート
E1: 受講台帳貼付補助シート
A3: 対象年度 | B3: 施設コード | C3: 受付番号 | D3: 受付日時 | E3: コース番号 | F3: コース名 | G3: 訓練実施方式 | H3: 実施機関名 | I3: 実施機関法人番号 | J3: 事業取組団体名 | K3: 事業取組団体 法人番号 | L3: 日程 | M3: 訓練開始日 | N3: 訓練終了日 | O3: 訓練日数 | P3: 訓練時間数 | Q3: 予定実績区分 | R3: 申込元事業所固有番号 | S3: 申込元事業所固有番号枝番 | T3: 事業主・団体名 | U3: 事業所名 | V3: 申込団体名 | W3: 事業所担当者ID | X3: 担当者氏名 | Y3: 氏名 | Z3: ふりがな | AA3: 性別_コード値 | AB3: 性別 | AC3: 生年月日 | AD3: 就業状況_コード値 | AE3: 就業状況 | AF3: オンライン受講状況_コード値 | AG3: オンライン受講状況 | AH3: ステータス_コード値 | AI3: ステータス | AJ3: 請求番号 | AK3: 収納年月日 | AL3: 確約書_コード値 | AM3: 確約書 | AN3: キャンセル年月日 | AO3: 受講時間数 | AP3: 備考１ | AQ3: 備考２ | AR3: 備考３
A4: ※必須 半4 | B4: 編集不可 | C4: 半8 | D4: ※必須 YYYY/MM/DD hh:mm | E4: ※必須 半16 | F4: 編集不可 | G4: 編集不可 | H4: 編集不可 | I4: 編集不可 | J4: 編集不可 | K4: 編集不可 | L4: 編集不可 | M4: 編集不可 | N4: 編集不可 | O4: 編集不可 | P4: 編集不可 | Q4: 編集不可 | R4: ※必須 半10 | S4: ※必須 半2 | T4: 入力 | U4: 入力 | V4: ※条件付必須 半全30 | W4: 半10 | X4: 入力 | Y4: ※必須 全30 | Z4: 全30 | AA4: 編集不可 非表示 | AB4: リスト | AC4: YYYY/MM/DD | AD4: 編集不可 非表示 | AE4: リスト | AF4: 編集不可 非表示 | AG4: ※条件付必須 | AH4: 編集不可 非表示 | AI4: ※必須 | AJ4: ※条件付必須 数4 | AK4: YYYY/MM/DD | AL4: 編集不可 非表示 | AM4: リスト | AN4: YYYY/MM/DD | AO4: 半4 | AP4: 半全200 | AQ4: 半全200 | AR4: 半全200
A5: 《year》 | B5: 《facilityCode》 | C5: 《receiptNo》 | D5: 《receiptDatetime》 | E5: 《courseNo》 | F5: 《courseName》 | H5: 《implementAgencyCorporateNumber》 | J5: 《assocName》 | L5: 《schedule》 | M5: 《startDate》 | N5: 《endDate》 | O5: 《trainingDays》 | P5: 《trainingHours》 | Q5: 《planActualDivision》 | R5: 《officeUniqueId》 | T5: 《businessOwnerName》 | U5: 《officeName》 | V5: 《applicationAssocName》 | W5: 《officeContactPersonId》 | X5: 《contactPersonName》 | Y5: 《name》 | Z5: 《kana》 | AA5: 《genderCode》 | AB5: 《gender》 | AC5: 《birthday》 | AD5: 《employeeDivisionCode》 | AE5: 《employeeDivision》 | AF5: 《attendanceConditionCode》 | AG5: 《attendanceCondition》 | AH5: 《attendanceStatusCode》 | AI5: 《attendanceStatus》 | AJ5: 《billNumber》 | AK5: 《collectDate》 | AL5: 《pledgeRegisteredCode》 | AM5: 《pledgeRegistered》 | AN5: 《cancelDate》 | AO5: 《attendanceHours》 | AP5: 《remarks1》 | AQ5: 《remarks2》 | AR5: 《remarks3》
E6: ='受講申込書 '!B47 -> 0 | T6: ='受講申込書 '!$D$31 -> 0 | U6: ='受講申込書 '!$M$31 -> 0 | X6: ='受講申込書 '!$F$40 -> 0 | Y6: ='受講申込書 '!H47 -> 0 | Z6: ='受講申込書 '!J47 -> 0 | AB6: ='受講申込書 '!L47 -> 0 | AC6: ='受講申込書 '!M47 -> 0 | AE6: =IF('受講申込書 '!N47="☑","正社員",IF('受講申込書 '!N48="☑","非正規雇用",IF('受講申込書 '!N49="☑","その他（自営業等）",""))) | AG6: =IF('受講申込書 '!P47="☑","オンライン（自宅）",IF('受講申込書 '!P48="☑","オンライン（自宅以外）",IF('受講申込書 '!P49="☑","オフライン","")))
E7: ='受講申込書 '!B50 -> 0 | T7: ='受講申込書 '!$D$31 -> 0 | U7: ='受講申込書 '!$M$31 -> 0 | X7: ='受講申込書 '!$F$40 -> 0 | Y7: ='受講申込書 '!H50 -> 0 | Z7: ='受講申込書 '!J50 -> 0 | AB7: ='受講申込書 '!L50 -> 0 | AC7: ='受講申込書 '!M50 -> 0 | AE7: =IF('受講申込書 '!N50="☑","正社員",IF('受講申込書 '!N51="☑","非正規雇用",IF('受講申込書 '!N52="☑","その他（自営業等）",""))) | AG7: =IF('受講申込書 '!P50="☑","オンライン（自宅）",IF('受講申込書 '!P51="☑","オンライン（自宅以外）",IF('受講申込書 '!P52="☑","オフライン","")))
E8: ='受講申込書 '!B53 -> 0 | T8: ='受講申込書 '!$D$31 -> 0 | U8: ='受講申込書 '!$M$31 -> 0 | X8: ='受講申込書 '!$F$40 -> 0 | Y8: ='受講申込書 '!H53 -> 0 | Z8: ='受講申込書 '!J53 -> 0 | AB8: ='受講申込書 '!L53 -> 0 | AC8: ='受講申込書 '!M53 -> 0 | AE8: =IF('受講申込書 '!N53="☑","正社員",IF('受講申込書 '!N54="☑","非正規雇用",IF('受講申込書 '!N55="☑","その他（自営業等）",""))) | AG8: =IF('受講申込書 '!P53="☑","オンライン（自宅）",IF('受講申込書 '!P54="☑","オンライン（自宅以外）",IF('受講申込書 '!P55="☑","オフライン","")))
E9: ='受講申込書 '!B56 -> 0 | T9: ='受講申込書 '!$D$31 -> 0 | U9: ='受講申込書 '!$M$31 -> 0 | X9: ='受講申込書 '!$F$40 -> 0 | Y9: ='受講申込書 '!H56 -> 0 | Z9: ='受講申込書 '!J56 -> 0 | AB9: ='受講申込書 '!L56 -> 0 | AC9: ='受講申込書 '!M56 -> 0 | AE9: =IF('受講申込書 '!N56="☑","正社員",IF('受講申込書 '!N57="☑","非正規雇用",IF('受講申込書 '!N58="☑","その他（自営業等）",""))) | AG9: =IF('受講申込書 '!P56="☑","オンライン（自宅）",IF('受講申込書 '!P57="☑","オンライン（自宅以外）",IF('受講申込書 '!P58="☑","オフライン","")))
E10: ='受講申込書 '!B59 -> 0 | T10: ='受講申込書 '!$D$31 -> 0 | U10: ='受講申込書 '!$M$31 -> 0 | X10: ='受講申込書 '!$F$40 -> 0 | Y10: ='受講申込書 '!H59 -> 0 | Z10: ='受講申込書 '!J59 -> 0 | AB10: ='受講申込書 '!L59 -> 0 | AC10: ='受講申込書 '!M59 -> 0 | AE10: =IF('受講申込書 '!N59="☑","正社員",IF('受講申込書 '!N60="☑","非正規雇用",IF('受講申込書 '!N61="☑","その他（自営業等）",""))) | AG10: =IF('受講申込書 '!P59="☑","オンライン（自宅）",IF('受講申込書 '!P60="☑","オンライン（自宅以外）",IF('受講申込書 '!P61="☑","オフライン","")))
E11: ='受講申込書 '!B62 -> 0 | T11: ='受講申込書 '!$D$31 -> 0 | U11: ='受講申込書 '!$M$31 -> 0 | X11: ='受講申込書 '!$F$40 -> 0 | Y11: ='受講申込書 '!H62 -> 0 | Z11: ='受講申込書 '!J62 -> 0 | AB11: ='受講申込書 '!L62 -> 0 | AC11: ='受講申込書 '!M62 -> 0 | AE11: =IF('受講申込書 '!N62="☑","正社員",IF('受講申込書 '!N63="☑","非正規雇用",IF('受講申込書 '!N64="☑","その他（自営業等）",""))) | AG11: =IF('受講申込書 '!P62="☑","オンライン（自宅）",IF('受講申込書 '!P63="☑","オンライン（自宅以外）",IF('受講申込書 '!P64="☑","オフライン","")))
E12: ='受講申込書 '!B65 -> 0 | T12: ='受講申込書 '!$D$31 -> 0 | U12: ='受講申込書 '!$M$31 -> 0 | X12: ='受講申込書 '!$F$40 -> 0 | Y12: ='受講申込書 '!H65 -> 0 | Z12: ='受講申込書 '!J65 -> 0 | AB12: ='受講申込書 '!L65 -> 0 | AC12: ='受講申込書 '!M65 -> 0 | AE12: =IF('受講申込書 '!N65="☑","正社員",IF('受講申込書 '!N66="☑","非正規雇用",IF('受講申込書 '!N67="☑","その他（自営業等）",""))) | AG12: =IF('受講申込書 '!P65="☑","オンライン（自宅）",IF('受講申込書 '!P66="☑","オンライン（自宅以外）",IF('受講申込書 '!P67="☑","オフライン","")))
E13: ='受講申込書 '!B68 -> 0 | T13: ='受講申込書 '!$D$31 -> 0 | U13: ='受講申込書 '!$M$31 -> 0 | X13: ='受講申込書 '!$F$40 -> 0 | Y13: ='受講申込書 '!H68 -> 0 | Z13: ='受講申込書 '!J68 -> 0 | AB13: ='受講申込書 '!L68 -> 0 | AC13: ='受講申込書 '!M68 -> 0 | AE13: =IF('受講申込書 '!N68="☑","正社員",IF('受講申込書 '!N69="☑","非正規雇用",IF('受講申込書 '!N70="☑","その他（自営業等）",""))) | AG13: =IF('受講申込書 '!P68="☑","オンライン（自宅）",IF('受講申込書 '!P69="☑","オンライン（自宅以外）",IF('受講申込書 '!P70="☑","オフライン","")))
E14: ='受講申込書 '!B71 -> 0 | T14: ='受講申込書 '!$D$31 -> 0 | U14: ='受講申込書 '!$M$31 -> 0 | X14: ='受講申込書 '!$F$40 -> 0 | Y14: ='受講申込書 '!H71 -> 0 | Z14: ='受講申込書 '!J71 -> 0 | AB14: ='受講申込書 '!L71 -> 0 | AC14: ='受講申込書 '!M71 -> 0 | AE14: =IF('受講申込書 '!N71="☑","正社員",IF('受講申込書 '!N72="☑","非正規雇用",IF('受講申込書 '!N73="☑","その他（自営業等）",""))) | AG14: =IF('受講申込書 '!P71="☑","オンライン（自宅）",IF('受講申込書 '!P72="☑","オンライン（自宅以外）",IF('受講申込書 '!P73="☑","オフライン","")))
E15: ='受講申込書 '!B74 -> 0 | T15: ='受講申込書 '!$D$31 -> 0 | U15: ='受講申込書 '!$M$31 -> 0 | X15: ='受講申込書 '!$F$40 -> 0 | Y15: ='受講申込書 '!H74 -> 0 | Z15: ='受講申込書 '!J74 -> 0 | AB15: ='受講申込書 '!L74 -> 0 | AC15: ='受講申込書 '!M74 -> 0 | AE15: =IF('受講申込書 '!N74="☑","正社員",IF('受講申込書 '!N75="☑","非正規雇用",IF('受講申込書 '!N76="☑","その他（自営業等）",""))) | AG15: =IF('受講申込書 '!P74="☑","オンライン（自宅）",IF('受講申込書 '!P75="☑","オンライン（自宅以外）",IF('受講申込書 '!P76="☑","オフライン","")))
